Package: factR Version: 1.11.0 Command: rm -rf factR.buildbin-libdir && mkdir factR.buildbin-libdir && /Users/biocbuild/BBS/utils/build-universal.sh factR_1.11.0.tar.gz /Library/Frameworks/R.framework/Resources/bin/R factR.buildbin-libdir StartedAt: 2025-10-17 03:50:14 -0400 (Fri, 17 Oct 2025) EndedAt: 2025-10-17 03:50:30 -0400 (Fri, 17 Oct 2025) EllapsedTime: 16.5 seconds RetCode: 0 Status: OK PackageFile: factR_1.11.0.tgz PackageFileSize: 1.928 MiB