Package: factR Version: 1.11.0 Command: /Library/Frameworks/R.framework/Resources/bin/R CMD INSTALL factR StartedAt: 2025-10-02 15:20:47 -0400 (Thu, 02 Oct 2025) EndedAt: 2025-10-02 15:20:51 -0400 (Thu, 02 Oct 2025) EllapsedTime: 4.2 seconds RetCode: 0 Status: OK