Package: factR Version: 1.11.0 Command: /Library/Frameworks/R.framework/Resources/bin/R CMD build --keep-empty-dirs --no-resave-data factR StartedAt: 2025-10-03 16:22:34 -0400 (Fri, 03 Oct 2025) EndedAt: 2025-10-03 16:23:44 -0400 (Fri, 03 Oct 2025) EllapsedTime: 69.9 seconds RetCode: 0 Status: OK PackageFile: factR_1.11.0.tar.gz PackageFileSize: 1.839 MiB