Package: factDesign Version: 1.85.0 Command: /home/biocbuild/R/R/bin/R CMD INSTALL factDesign StartedAt: 2025-10-23 20:31:24 -0000 (Thu, 23 Oct 2025) EndedAt: 2025-10-23 20:31:33 -0000 (Thu, 23 Oct 2025) EllapsedTime: 8.8 seconds RetCode: 0 Status: OK