Package: factDesign Version: 1.85.0 Command: /home/biocbuild/R/R/bin/R CMD build --keep-empty-dirs --no-resave-data factDesign StartedAt: 2025-10-20 23:44:25 -0000 (Mon, 20 Oct 2025) EndedAt: 2025-10-20 23:44:36 -0000 (Mon, 20 Oct 2025) EllapsedTime: 11.0 seconds RetCode: 0 Status: OK PackageFile: factDesign_1.85.0.tar.gz PackageFileSize: 209.5 KiB