Package: factDesign Version: 1.85.0 Command: /home/biocbuild/bbs-3.22-bioc/R/bin/R CMD check --install=check:factDesign.install-out.txt --library=/home/biocbuild/bbs-3.22-bioc/R/site-library --timings factDesign_1.85.0.tar.gz StartedAt: 2025-10-16 00:21:39 -0400 (Thu, 16 Oct 2025) EndedAt: 2025-10-16 00:22:09 -0400 (Thu, 16 Oct 2025) EllapsedTime: 30.0 seconds RetCode: 0 Status: OK CheckDir: factDesign.Rcheck Warnings: 0