Package: factDesign Version: 1.87.0 Command: /home/biocbuild/bbs-3.23-bioc/R/bin/R CMD check --install=check:factDesign.install-out.txt --library=/home/biocbuild/bbs-3.23-bioc/R/site-library --timings factDesign_1.87.0.tar.gz StartedAt: 2025-11-21 23:30:42 -0500 (Fri, 21 Nov 2025) EndedAt: 2025-11-21 23:31:11 -0500 (Fri, 21 Nov 2025) EllapsedTime: 29.0 seconds RetCode: 0 Status: OK CheckDir: factDesign.Rcheck Warnings: 0