Package: fabia Version: 2.57.0 Command: /home/biocbuild/bbs-3.23-bioc/R/bin/R CMD build --keep-empty-dirs --no-resave-data fabia StartedAt: 2025-10-31 17:45:49 -0400 (Fri, 31 Oct 2025) EndedAt: 2025-10-31 17:46:08 -0400 (Fri, 31 Oct 2025) EllapsedTime: 19.0 seconds RetCode: 0 Status: OK PackageFile: fabia_2.57.0.tar.gz PackageFileSize: 801 KiB