Package: fabia Version: 2.57.0 Command: /Library/Frameworks/R.framework/Resources/bin/R CMD INSTALL fabia StartedAt: 2025-11-21 15:18:47 -0500 (Fri, 21 Nov 2025) EndedAt: 2025-11-21 15:19:08 -0500 (Fri, 21 Nov 2025) EllapsedTime: 20.6 seconds RetCode: 0 Status: OK