Package: fabia Version: 2.57.0 Command: /Library/Frameworks/R.framework/Resources/bin/R CMD build --keep-empty-dirs --no-resave-data fabia StartedAt: 2025-11-21 16:59:42 -0500 (Fri, 21 Nov 2025) EndedAt: 2025-11-21 17:00:09 -0500 (Fri, 21 Nov 2025) EllapsedTime: 26.3 seconds RetCode: 0 Status: OK PackageFile: fabia_2.57.0.tar.gz PackageFileSize: 792.5 KiB