Package: fabia Version: 2.57.0 Command: /Library/Frameworks/R.framework/Resources/bin/R CMD INSTALL fabia StartedAt: 2025-11-20 15:06:48 -0500 (Thu, 20 Nov 2025) EndedAt: 2025-11-20 15:06:53 -0500 (Thu, 20 Nov 2025) EllapsedTime: 4.4 seconds RetCode: 0 Status: OK