Package: fabia Version: 2.57.0 Command: /Library/Frameworks/R.framework/Resources/bin/R CMD build --keep-empty-dirs --no-resave-data fabia StartedAt: 2025-11-20 16:20:01 -0500 (Thu, 20 Nov 2025) EndedAt: 2025-11-20 16:20:11 -0500 (Thu, 20 Nov 2025) EllapsedTime: 10.1 seconds RetCode: 0 Status: OK PackageFile: fabia_2.57.0.tar.gz PackageFileSize: 800.5 KiB