Package: fabia Version: 2.57.0 Command: rm -rf fabia.buildbin-libdir && mkdir fabia.buildbin-libdir && /Users/biocbuild/BBS/utils/build-universal.sh fabia_2.57.0.tar.gz /Library/Frameworks/R.framework/Resources/bin/R fabia.buildbin-libdir StartedAt: 2025-11-20 23:33:04 -0500 (Thu, 20 Nov 2025) EndedAt: 2025-11-20 23:33:11 -0500 (Thu, 20 Nov 2025) EllapsedTime: 6.2 seconds RetCode: 0 Status: OK PackageFile: fabia_2.57.0.tgz PackageFileSize: 1.142 MiB