Package: fCI Version: 1.41.0 Command: /home/biocbuild/bbs-3.23-bioc/R/bin/R CMD INSTALL fCI StartedAt: 2025-10-31 15:15:05 -0400 (Fri, 31 Oct 2025) EndedAt: 2025-10-31 15:15:43 -0400 (Fri, 31 Oct 2025) EllapsedTime: 38.7 seconds RetCode: 0 Status: OK