Package: fCI Version: 1.41.0 Command: /home/biocbuild/bbs-3.23-bioc/R/bin/R CMD build --keep-empty-dirs --no-resave-data fCI StartedAt: 2025-10-31 17:47:06 -0400 (Fri, 31 Oct 2025) EndedAt: 2025-10-31 17:47:39 -0400 (Fri, 31 Oct 2025) EllapsedTime: 32.1 seconds RetCode: 0 Status: OK PackageFile: fCI_1.41.0.tar.gz PackageFileSize: 1.32 MiB