Package: fCI Version: 1.39.0 Command: /Library/Frameworks/R.framework/Resources/bin/R CMD INSTALL fCI StartedAt: 2025-10-13 15:11:25 -0400 (Mon, 13 Oct 2025) EndedAt: 2025-10-13 15:12:13 -0400 (Mon, 13 Oct 2025) EllapsedTime: 48.2 seconds RetCode: 0 Status: OK