Package: fCI Version: 1.39.0 Command: rm -rf fCI.buildbin-libdir && mkdir fCI.buildbin-libdir && /Users/biocbuild/BBS/utils/build-universal.sh fCI_1.39.0.tar.gz /Library/Frameworks/R.framework/Resources/bin/R fCI.buildbin-libdir StartedAt: 2025-10-14 02:43:59 -0400 (Tue, 14 Oct 2025) EndedAt: 2025-10-14 02:44:11 -0400 (Tue, 14 Oct 2025) EllapsedTime: 11.7 seconds RetCode: 0 Status: OK PackageFile: fCI_1.39.0.tgz PackageFileSize: 1.548 MiB