Package: fCI Version: 1.41.0 Maintainer: Shaojun Tang MaintainerEmail: tangshao2008 at gmail.com git_url: https://git.bioconductor.org/packages/fCI git_branch: devel git_last_commit: 489f36c git_last_commit_date: 2025-10-29 10:26:31 -0400 (Wed, 29 Oct 2025)