Package: fCCAC Version: 1.37.0 Command: /home/biocbuild/bbs-3.23-bioc/R/bin/R CMD build --keep-empty-dirs --no-resave-data fCCAC StartedAt: 2025-11-06 17:31:32 -0500 (Thu, 06 Nov 2025) EndedAt: 2025-11-06 17:32:43 -0500 (Thu, 06 Nov 2025) EllapsedTime: 71.1 seconds RetCode: 0 Status: OK PackageFile: fCCAC_1.37.0.tar.gz PackageFileSize: 3.499 MiB