Package: fCCAC Version: 1.35.0 Command: /Library/Frameworks/R.framework/Resources/bin/R CMD INSTALL fCCAC StartedAt: 2025-10-14 15:30:05 -0400 (Tue, 14 Oct 2025) EndedAt: 2025-10-14 15:30:58 -0400 (Tue, 14 Oct 2025) EllapsedTime: 53.2 seconds RetCode: 0 Status: OK