Package: fCCAC Version: 1.35.0 Command: /Library/Frameworks/R.framework/Resources/bin/R CMD build --keep-empty-dirs --no-resave-data fCCAC StartedAt: 2025-10-14 17:08:08 -0400 (Tue, 14 Oct 2025) EndedAt: 2025-10-14 17:10:01 -0400 (Tue, 14 Oct 2025) EllapsedTime: 113.1 seconds RetCode: 0 Status: OK PackageFile: fCCAC_1.35.0.tar.gz PackageFileSize: 3.498 MiB