Package: fCCAC Version: 1.35.0 Command: rm -rf fCCAC.buildbin-libdir && mkdir fCCAC.buildbin-libdir && /Users/biocbuild/BBS/utils/build-universal.sh fCCAC_1.35.0.tar.gz /Library/Frameworks/R.framework/Resources/bin/R fCCAC.buildbin-libdir StartedAt: 2025-10-15 02:44:14 -0400 (Wed, 15 Oct 2025) EndedAt: 2025-10-15 02:45:10 -0400 (Wed, 15 Oct 2025) EllapsedTime: 55.8 seconds RetCode: 0 Status: OK PackageFile: fCCAC_1.35.0.tgz PackageFileSize: 3.531 MiB