Package: fCCAC Version: 1.37.0 Maintainer: Pedro Madrigal MaintainerEmail: pmadrigal at ebi.ac.uk git_url: https://git.bioconductor.org/packages/fCCAC git_branch: devel git_last_commit: 5500c70 git_last_commit_date: 2025-10-29 10:35:32 -0400 (Wed, 29 Oct 2025)