Package: extraChIPs Version: 1.13.3 Command: /Library/Frameworks/R.framework/Resources/bin/R CMD INSTALL extraChIPs StartedAt: 2025-10-17 15:30:17 -0400 (Fri, 17 Oct 2025) EndedAt: 2025-10-17 15:31:20 -0400 (Fri, 17 Oct 2025) EllapsedTime: 62.2 seconds RetCode: 0 Status: OK