Package: extraChIPs Version: 1.13.3 Command: /Library/Frameworks/R.framework/Resources/bin/R CMD build --keep-empty-dirs --no-resave-data extraChIPs StartedAt: 2025-10-17 17:11:03 -0400 (Fri, 17 Oct 2025) EndedAt: 2025-10-17 17:13:38 -0400 (Fri, 17 Oct 2025) EllapsedTime: 155.7 seconds RetCode: 0 Status: OK PackageFile: extraChIPs_1.13.3.tar.gz PackageFileSize: 3.873 MiB