Package: extraChIPs Version: 1.13.3 Command: /Library/Frameworks/R.framework/Resources/bin/R CMD INSTALL extraChIPs StartedAt: 2025-10-14 15:17:34 -0400 (Tue, 14 Oct 2025) EndedAt: 2025-10-14 15:17:51 -0400 (Tue, 14 Oct 2025) EllapsedTime: 17.1 seconds RetCode: 0 Status: OK