Package: extraChIPs Version: 1.13.3 Command: rm -rf extraChIPs.buildbin-libdir && mkdir extraChIPs.buildbin-libdir && /Users/biocbuild/BBS/utils/build-universal.sh extraChIPs_1.13.3.tar.gz /Library/Frameworks/R.framework/Resources/bin/R extraChIPs.buildbin-libdir StartedAt: 2025-10-15 22:45:31 -0400 (Wed, 15 Oct 2025) EndedAt: 2025-10-15 22:45:49 -0400 (Wed, 15 Oct 2025) EllapsedTime: 18.4 seconds RetCode: 0 Status: OK PackageFile: extraChIPs_1.13.3.tgz PackageFileSize: 2.838 MiB