Package: extraChIPs Version: 1.15.0 Maintainer: Stevie Pederson MaintainerEmail: stephen.pederson.au at gmail.com git_url: https://git.bioconductor.org/packages/extraChIPs git_branch: devel git_last_commit: 9ceda11 git_last_commit_date: 2025-10-29 11:16:32 -0400 (Wed, 29 Oct 2025)