Package: evaluomeR Version: 1.25.0 Command: /home/biocbuild/R/R/bin/R CMD INSTALL evaluomeR StartedAt: 2025-09-29 21:08:46 -0000 (Mon, 29 Sep 2025) EndedAt: 2025-09-29 21:09:37 -0000 (Mon, 29 Sep 2025) EllapsedTime: 51.4 seconds RetCode: 0 Status: OK