Package: evaluomeR Version: 1.25.0 Command: /home/biocbuild/R/R/bin/R CMD build --keep-empty-dirs --no-resave-data evaluomeR StartedAt: 2025-09-29 23:54:27 -0000 (Mon, 29 Sep 2025) EndedAt: 2025-09-29 23:55:56 -0000 (Mon, 29 Sep 2025) EllapsedTime: 89.0 seconds RetCode: 0 Status: OK PackageFile: evaluomeR_1.25.0.tar.gz PackageFileSize: 942.6 KiB