Package: evaluomeR Version: 1.25.0 Command: /home/biocbuild/bbs-3.22-bioc/R/bin/R CMD check --install=check:evaluomeR.install-out.txt --library=/home/biocbuild/bbs-3.22-bioc/R/site-library --timings evaluomeR_1.25.0.tar.gz StartedAt: 2025-10-10 23:58:28 -0400 (Fri, 10 Oct 2025) EndedAt: 2025-10-11 00:03:47 -0400 (Sat, 11 Oct 2025) EllapsedTime: 319.3 seconds RetCode: 0 Status: WARNINGS CheckDir: evaluomeR.Rcheck Warnings: 3