Package: evaluomeR Version: 1.27.0 Command: /home/biocbuild/bbs-3.23-bioc/R/bin/R CMD INSTALL evaluomeR StartedAt: 2025-11-20 15:32:52 -0500 (Thu, 20 Nov 2025) EndedAt: 2025-11-20 15:33:33 -0500 (Thu, 20 Nov 2025) EllapsedTime: 41.1 seconds RetCode: 0 Status: OK