Package: evaluomeR Version: 1.27.0 Command: /home/biocbuild/bbs-3.23-bioc/R/bin/R CMD check --install=check:evaluomeR.install-out.txt --library=/home/biocbuild/bbs-3.23-bioc/R/site-library --timings evaluomeR_1.27.0.tar.gz StartedAt: 2025-11-21 23:27:14 -0500 (Fri, 21 Nov 2025) EndedAt: 2025-11-21 23:32:32 -0500 (Fri, 21 Nov 2025) EllapsedTime: 317.4 seconds RetCode: 0 Status: WARNINGS CheckDir: evaluomeR.Rcheck Warnings: 3