Package: esetVis Version: 1.37.0 Command: /home/biocbuild/bbs-3.23-bioc/R/bin/R CMD INSTALL esetVis StartedAt: 2025-11-14 15:32:42 -0500 (Fri, 14 Nov 2025) EndedAt: 2025-11-14 15:32:56 -0500 (Fri, 14 Nov 2025) EllapsedTime: 14.7 seconds RetCode: 0 Status: OK