Package: esetVis Version: 1.37.0 Command: /home/biocbuild/bbs-3.23-bioc/R/bin/R CMD build --keep-empty-dirs --no-resave-data esetVis StartedAt: 2025-11-14 17:32:54 -0500 (Fri, 14 Nov 2025) EndedAt: 2025-11-14 17:34:24 -0500 (Fri, 14 Nov 2025) EllapsedTime: 90.1 seconds RetCode: 0 Status: OK PackageFile: esetVis_1.37.0.tar.gz PackageFileSize: 3.194 MiB