Package: escheR Version: 1.11.0 Command: /home/biocbuild/bbs-3.23-bioc/R/bin/R CMD INSTALL escheR StartedAt: 2025-11-06 15:22:14 -0500 (Thu, 06 Nov 2025) EndedAt: 2025-11-06 15:22:40 -0500 (Thu, 06 Nov 2025) EllapsedTime: 25.1 seconds RetCode: 0 Status: OK