Package: escheR Version: 1.11.0 Command: /home/biocbuild/bbs-3.23-bioc/R/bin/R CMD build --keep-empty-dirs --no-resave-data escheR StartedAt: 2025-11-06 17:29:07 -0500 (Thu, 06 Nov 2025) EndedAt: 2025-11-06 17:31:32 -0500 (Thu, 06 Nov 2025) EllapsedTime: 144.1 seconds RetCode: 0 Status: OK PackageFile: escheR_1.11.0.tar.gz PackageFileSize: 2.91 MiB