Package: escheR Version: 1.9.0 Command: /Library/Frameworks/R.framework/Resources/bin/R CMD INSTALL escheR StartedAt: 2025-10-12 15:14:30 -0400 (Sun, 12 Oct 2025) EndedAt: 2025-10-12 15:14:40 -0400 (Sun, 12 Oct 2025) EllapsedTime: 10.0 seconds RetCode: 0 Status: OK