Package: escheR Version: 1.9.0 Command: /Library/Frameworks/R.framework/Resources/bin/R CMD build --keep-empty-dirs --no-resave-data escheR StartedAt: 2025-10-10 16:22:49 -0400 (Fri, 10 Oct 2025) EndedAt: 2025-10-10 16:23:41 -0400 (Fri, 10 Oct 2025) EllapsedTime: 51.6 seconds RetCode: 0 Status: OK PackageFile: escheR_1.9.0.tar.gz PackageFileSize: 3.545 MiB