Package: escheR Version: 1.9.0 Command: rm -rf escheR.buildbin-libdir && mkdir escheR.buildbin-libdir && /Users/biocbuild/BBS/utils/build-universal.sh escheR_1.9.0.tar.gz /Library/Frameworks/R.framework/Resources/bin/R escheR.buildbin-libdir StartedAt: 2025-10-10 22:40:38 -0400 (Fri, 10 Oct 2025) EndedAt: 2025-10-10 22:40:50 -0400 (Fri, 10 Oct 2025) EllapsedTime: 12.3 seconds RetCode: 0 Status: OK PackageFile: escheR_1.9.0.tgz PackageFileSize: 3.562 MiB