Package: escape Version: 2.7.0 Command: /home/biocbuild/bbs-3.23-bioc/R/bin/R CMD build --keep-empty-dirs --no-resave-data escape StartedAt: 2025-11-17 17:40:15 -0500 (Mon, 17 Nov 2025) EndedAt: 2025-11-17 17:41:22 -0500 (Mon, 17 Nov 2025) EllapsedTime: 67.1 seconds RetCode: 0 Status: OK PackageFile: escape_2.7.0.tar.gz PackageFileSize: 1.596 MiB