Package: esATAC Version: 1.33.0 Command: /home/biocbuild/bbs-3.23-bioc/R/bin/R CMD INSTALL esATAC StartedAt: 2025-11-20 15:59:51 -0500 (Thu, 20 Nov 2025) EndedAt: 2025-11-20 16:00:31 -0500 (Thu, 20 Nov 2025) EllapsedTime: 40.6 seconds RetCode: 1 Status: ERROR