Package: esATAC Version: 1.33.0 Command: /home/biocbuild/bbs-3.23-bioc/R/bin/R CMD build --keep-empty-dirs --no-resave-data esATAC StartedAt: 2025-11-20 17:33:40 -0500 (Thu, 20 Nov 2025) EndedAt: 2025-11-20 17:34:21 -0500 (Thu, 20 Nov 2025) EllapsedTime: 41.0 seconds RetCode: 1 Status: ERROR PackageFile: None PackageFileSize: NA