Package: esATAC Version: 1.31.1 Command: /Library/Frameworks/R.framework/Resources/bin/R CMD INSTALL esATAC StartedAt: 2025-10-17 15:31:47 -0400 (Fri, 17 Oct 2025) EndedAt: 2025-10-17 15:32:19 -0400 (Fri, 17 Oct 2025) EllapsedTime: 31.8 seconds RetCode: 0 Status: OK