Package: esATAC Version: 1.31.1 Command: /Library/Frameworks/R.framework/Resources/bin/R CMD build --keep-empty-dirs --no-resave-data esATAC StartedAt: 2025-10-16 16:33:13 -0400 (Thu, 16 Oct 2025) EndedAt: 2025-10-16 16:33:47 -0400 (Thu, 16 Oct 2025) EllapsedTime: 34.4 seconds RetCode: 0 Status: OK PackageFile: esATAC_1.31.1.tar.gz PackageFileSize: 9.863 MiB