Package: esATAC Version: 1.31.1 Command: rm -rf esATAC.buildbin-libdir && mkdir esATAC.buildbin-libdir && /Users/biocbuild/BBS/utils/build-universal.sh esATAC_1.31.1.tar.gz /Library/Frameworks/R.framework/Resources/bin/R esATAC.buildbin-libdir StartedAt: 2025-10-17 23:07:45 -0400 (Fri, 17 Oct 2025) EndedAt: 2025-10-17 23:08:22 -0400 (Fri, 17 Oct 2025) EllapsedTime: 36.8 seconds RetCode: 0 Status: OK PackageFile: esATAC_1.31.1.tgz PackageFileSize: 8.169 MiB