Package: erccdashboard Version: 1.43.0 Command: /home/biocbuild/R/R/bin/R CMD build --keep-empty-dirs --no-resave-data erccdashboard StartedAt: 2025-10-20 23:41:11 -0000 (Mon, 20 Oct 2025) EndedAt: 2025-10-20 23:42:21 -0000 (Mon, 20 Oct 2025) EllapsedTime: 70.0 seconds RetCode: 0 Status: OK PackageFile: erccdashboard_1.43.0.tar.gz PackageFileSize: 1.725 MiB