Package: erccdashboard Version: 1.43.0 Command: /home/biocbuild/bbs-3.22-bioc/R/bin/R CMD check --install=check:erccdashboard.install-out.txt --library=/home/biocbuild/bbs-3.22-bioc/R/site-library --timings erccdashboard_1.43.0.tar.gz StartedAt: 2025-10-21 23:41:57 -0400 (Tue, 21 Oct 2025) EndedAt: 2025-10-21 23:43:40 -0400 (Tue, 21 Oct 2025) EllapsedTime: 103.1 seconds RetCode: 0 Status: OK CheckDir: erccdashboard.Rcheck Warnings: 0