Package: erccdashboard Version: 1.45.0 Command: /home/biocbuild/bbs-3.23-bioc/R/bin/R CMD INSTALL erccdashboard StartedAt: 2025-11-06 15:07:49 -0500 (Thu, 06 Nov 2025) EndedAt: 2025-11-06 15:07:58 -0500 (Thu, 06 Nov 2025) EllapsedTime: 8.6 seconds RetCode: 0 Status: OK