Package: erccdashboard Version: 1.45.0 Command: /home/biocbuild/bbs-3.23-bioc/R/bin/R CMD build --keep-empty-dirs --no-resave-data erccdashboard StartedAt: 2025-11-06 17:28:18 -0500 (Thu, 06 Nov 2025) EndedAt: 2025-11-06 17:29:07 -0500 (Thu, 06 Nov 2025) EllapsedTime: 49.0 seconds RetCode: 0 Status: OK PackageFile: erccdashboard_1.45.0.tar.gz PackageFileSize: 2.031 MiB